BEGIN:VCALENDAR
VERSION:2.0
PRODID:-//OmniMagnetCalendar//EN
BEGIN:VEVENT
DTSTAMP:20190625T195740Z
STATUS:CONFIRMED
UID:1985.classes.harvard.edu211
DTSTART:20250507T150000Z
DTEND:20250507T170000Z
LOCATION:Home of Aparna Viswanathan, Calle de Francisco Vitoria, 19, Madrid, 28007, Spain,
SUMMARY:Pre-Reunion Event:  Madrid
DESCRIPTION:Wednesday, May 7, 2025 7-9:00 pm CET
BEGIN:VALARM
TRIGGER:-PT15M
ACTION:DISPLAY
END:VALARM
TRANSP:OPAQUE
END:VEVENT
END:VCALENDAR
